BEGIN:VCALENDAR
VERSION:2.0
PRODID:-//Radio Scouting - ECPv6.1.3//NONSGML v1.0//EN
CALSCALE:GREGORIAN
METHOD:PUBLISH
X-ORIGINAL-URL:https://www.radio-scouting.de
X-WR-CALDESC:Veranstaltungen für Radio Scouting
REFRESH-INTERVAL;VALUE=DURATION:PT1H
X-Robots-Tag:noindex
X-PUBLISHED-TTL:PT1H
BEGIN:VTIMEZONE
TZID:Europe/Berlin
BEGIN:DAYLIGHT
TZOFFSETFROM:+0100
TZOFFSETTO:+0200
TZNAME:CEST
DTSTART:20150329T010000
END:DAYLIGHT
BEGIN:STANDARD
TZOFFSETFROM:+0200
TZOFFSETTO:+0100
TZNAME:CET
DTSTART:20151025T010000
END:STANDARD
END:VTIMEZONE
BEGIN:VEVENT
DTSTART;TZID=Europe/Berlin:20150327T080000
DTEND;TZID=Europe/Berlin:20150329T170000
DTSTAMP:20260424T173019
CREATED:20150327T125334Z
LAST-MODIFIED:20150327T125500Z
UID:42-1427443200-1427648400@www.radio-scouting.de
SUMMARY:DJJK 2015 in KISC
DESCRIPTION:Hallo zusammen\, \nwie jedes Jahr findet die DJJK statt. Dieses Jahr sind wir von den Schweizer Pfadis nach Kandersteg eingeladen worden. \nWenn ihr Interesse daran habt meldet Euch doch einfach an… \nWir freuen uns auf viele neue Gesichter… \nEs wird auch die Möglichkeit geben Fahrgemeinschaften zu bilden \nVy 73! es GP \nJochen DK8ZM
URL:https://www.radio-scouting.de/event/djjk-2015-in-kisc/
LOCATION:Kandersteg International Scout Center\, Schweiz
CATEGORIES:Treffen
END:VEVENT
END:VCALENDAR