BEGIN:VCALENDAR
VERSION:2.0
PRODID:-//Radio Scouting - ECPv6.1.3//NONSGML v1.0//EN
CALSCALE:GREGORIAN
METHOD:PUBLISH
X-ORIGINAL-URL:https://www.radio-scouting.de
X-WR-CALDESC:Veranstaltungen für Radio Scouting
REFRESH-INTERVAL;VALUE=DURATION:PT1H
X-Robots-Tag:noindex
X-PUBLISHED-TTL:PT1H
BEGIN:VTIMEZONE
TZID:Europe/Berlin
BEGIN:DAYLIGHT
TZOFFSETFROM:+0100
TZOFFSETTO:+0200
TZNAME:CEST
DTSTART:20150329T010000
END:DAYLIGHT
BEGIN:STANDARD
TZOFFSETFROM:+0200
TZOFFSETTO:+0100
TZNAME:CET
DTSTART:20151025T010000
END:STANDARD
END:VTIMEZONE
BEGIN:VEVENT
DTSTART;TZID=Europe/Berlin:20150731T080000
DTEND;TZID=Europe/Berlin:20150808T170000
DTSTAMP:20260424T104706
CREATED:20150327T125731Z
LAST-MODIFIED:20150327T125731Z
UID:45-1438329600-1439053200@www.radio-scouting.de
SUMMARY:Landeslager BdP - Baden-Württemberg
DESCRIPTION:Auf dem Landeslager des BdP Baden-Württemberg wird es ein Funkzelt geben. Weitere Infos dann hier auf der Seite.
URL:https://www.radio-scouting.de/event/landeslager-bdp-baden-wuerttemberg/
LOCATION:Reinwarzhofen in Bayern\, Willy-Brand-Platz\, Deutschland
CATEGORIES:Lager mit Funkzelt
END:VEVENT
END:VCALENDAR