BEGIN:VCALENDAR
VERSION:2.0
PRODID:-//Radio Scouting - ECPv6.1.3//NONSGML v1.0//EN
CALSCALE:GREGORIAN
METHOD:PUBLISH
X-ORIGINAL-URL:https://www.radio-scouting.de
X-WR-CALDESC:Veranstaltungen für Radio Scouting
REFRESH-INTERVAL;VALUE=DURATION:PT1H
X-Robots-Tag:noindex
X-PUBLISHED-TTL:PT1H
BEGIN:VTIMEZONE
TZID:Europe/Berlin
BEGIN:DAYLIGHT
TZOFFSETFROM:+0100
TZOFFSETTO:+0200
TZNAME:CEST
DTSTART:20150329T010000
END:DAYLIGHT
BEGIN:STANDARD
TZOFFSETFROM:+0200
TZOFFSETTO:+0100
TZNAME:CET
DTSTART:20151025T010000
END:STANDARD
END:VTIMEZONE
BEGIN:VEVENT
DTSTART;TZID=Europe/Berlin:20151016T000000
DTEND;TZID=Europe/Berlin:20151018T235000
DTSTAMP:20260424T064256
CREATED:20150328T213314Z
LAST-MODIFIED:20150809T163246Z
UID:220-1444953600-1445212200@www.radio-scouting.de
SUMMARY:JOTA - JOTI 2015
DESCRIPTION:
URL:https://www.radio-scouting.de/event/jota-joti-2015/
ATTACH;FMTTYPE=image/jpeg:https://www.radio-scouting.de/wp-content/uploads/2015/03/JOTA-JOTI-2015.jpg
END:VEVENT
END:VCALENDAR