BEGIN:VCALENDAR
VERSION:2.0
PRODID:-//Radio Scouting - ECPv6.1.3//NONSGML v1.0//EN
CALSCALE:GREGORIAN
METHOD:PUBLISH
X-ORIGINAL-URL:https://www.radio-scouting.de
X-WR-CALDESC:Veranstaltungen für Radio Scouting
REFRESH-INTERVAL;VALUE=DURATION:PT1H
X-Robots-Tag:noindex
X-PUBLISHED-TTL:PT1H
BEGIN:VTIMEZONE
TZID:Europe/Berlin
BEGIN:DAYLIGHT
TZOFFSETFROM:+0100
TZOFFSETTO:+0200
TZNAME:CEST
DTSTART:20160327T010000
END:DAYLIGHT
BEGIN:STANDARD
TZOFFSETFROM:+0200
TZOFFSETTO:+0100
TZNAME:CET
DTSTART:20161030T010000
END:STANDARD
END:VTIMEZONE
BEGIN:VEVENT
DTSTART;VALUE=DATE:20161015
DTEND;VALUE=DATE:20161017
DTSTAMP:20260423T134829
CREATED:20160318T172034Z
LAST-MODIFIED:20160318T172034Z
UID:418-1476489600-1476662399@www.radio-scouting.de
SUMMARY:JOTA-JOTI 2016
DESCRIPTION:
URL:https://www.radio-scouting.de/event/jota-joti-2016/
END:VEVENT
END:VCALENDAR